BEGIN:VCALENDAR
VERSION:2.0
PRODID:-//AusHSI - ECPv6.15.17.1//NONSGML v1.0//EN
CALSCALE:GREGORIAN
METHOD:PUBLISH
X-ORIGINAL-URL:https://www.aushsi.org.au
X-WR-CALDESC:Events for AusHSI
REFRESH-INTERVAL;VALUE=DURATION:PT1H
X-Robots-Tag:noindex
X-PUBLISHED-TTL:PT1H
BEGIN:VTIMEZONE
TZID:Australia/Brisbane
BEGIN:STANDARD
TZOFFSETFROM:+1000
TZOFFSETTO:+1000
TZNAME:AEST
DTSTART:20220101T000000
END:STANDARD
END:VTIMEZONE
BEGIN:VEVENT
DTSTART;TZID=Australia/Brisbane:20231102T140000
DTEND;TZID=Australia/Brisbane:20231102T150000
DTSTAMP:20260425T071650
CREATED:20231020T022028Z
LAST-MODIFIED:20231020T051829Z
UID:6166-1698933600-1698937200@www.aushsi.org.au
SUMMARY:Professor Todd Wagner Guest Seminar
DESCRIPTION:This seminar will be followed immediately by the HSRAANZ AGM (3:00pm – 3:30pm).\nAll HSRAANZ members are invited to attend.  \nMeasuring and Improving Efficiency in Health Care\nOverview\nIn our guest seminar\, Professor Todd Wagner explores the bridging of implementation science and health economics\, with a focus on how researchers can improve efficiency in health care delivery systems. \nTodd Wagner is a Professor in the Department of Surgery at Stanford University. He has worked extensively in health care delivery systems where economics and clinical care intersect\, raising questions about cost\, efficiency\, and quality. Todd is particularly interested in developing learning health care systems that provide high value care. In addition to his role at Stanford\, he Directs the Health Economics Resource Center at the Palo Alto VA\, where he is a Department of Veterans Affairs (VA) Research Career Scientist and he co-directs the Department of Veterans Affairs and National Cancer Institute (VA/NCI) Big Data Fellowship. Todd is on the editorial board for Health Services Research\, Medical Decision Making\, and American Journal of Health Promotion. \nTarget Audience\nResearchers\, students and health professionals who are interested in health care service delivery and clinical research. \nRegistration\nIn Person: AusHSI (Seminar Room\, Level 4\, Q Block\, 60 Musk avenue)\nOnline: Zoom (link sent after registration)\nFREE
URL:https://www.aushsi.org.au/event/professor-todd-wagner-guest-seminar/
LOCATION:AusHSI (in person) & online\, 60 Musk Avenue\, Kelvin Grove\, QLD\, 4059\, Australia
CATEGORIES:Talks & Webinars
ATTACH;FMTTYPE=image/jpeg:https://www.aushsi.org.au/wp-content/uploads/2023/10/wagner-todd-extended-canvas-light-blue-800.jpg
ORGANIZER;CN="CHD LIFE+":MAILTO:chdlife-plus@qut.edu.au
END:VEVENT
BEGIN:VEVENT
DTSTART;TZID=Australia/Brisbane:20230303T090000
DTEND;TZID=Australia/Brisbane:20230303T153000
DTSTAMP:20260425T071650
CREATED:20230206T001528Z
LAST-MODIFIED:20230302T073247Z
UID:5210-1677834000-1677857400@www.aushsi.org.au
SUMMARY:AusHSI Discrete Choice Experiments: Exploring and evaluating methodologies
DESCRIPTION:This event showcases the progress and results of discrete choice experiments embedded in AusHSI’s research and PhD projects. \nOverview\nDiscrete choice experiments (DCEs) have been a popular methodology in the marketing and transport industries. In recent years\, this methodology has been adapted for use in healthcare\, and is a powerful tool for measuring consumer preference to effectively design and implement models of care and impact policy. \nThis event showcases the progress and results of DCEs that AusHSI is embedding in multiple research and PhD projects. Gain a deeper understanding of the methodology as AusHSI health economists and PhD researchers present their findings to a panel of experts in a conference format. \nTarget Audience\nAcademics\, students and health professionals who are interested in health economics\, consumer preference\, and emerging methodologies in these areas. \nThe Expert Panel\nInvited experts share their knowledge and experience in this emerging field\, and provide valuable feedback to AusHSI academics and students on their methodology. \n\nAssociate Professor Gang Chen\nCentre for Health Economics\, Monash University\nAssociate Professor Yuanyuan Gu\nCentre for the Health Economy\, Macquarie University\nDr Thao Thai\nHealth Economics Division\, School of Public Health and Preventive Medicine\, Monash University\n\nProgram\nIn person | online \nRegistration\nIn Person: AusHSI (Seminar Room\, Level 4\, Q Block\, 60 Musk avenue)\nOnline: Zoom (link sent after registration)\nRegistration is free but in-person places are limited.
URL:https://www.aushsi.org.au/event/aushsi-discrete-choice-experiments-exploring-and-evaluating-methodologies/
LOCATION:AusHSI (in person) & online\, 60 Musk Avenue\, Kelvin Grove\, QLD\, 4059\, Australia
CATEGORIES:Talks & Webinars
ATTACH;FMTTYPE=image/jpeg:https://www.aushsi.org.au/wp-content/uploads/2023/02/AusHSI-website_DCEs.jpg
ORGANIZER;CN="CHD LIFE+":MAILTO:chdlife-plus@qut.edu.au
END:VEVENT
END:VCALENDAR